BEGIN:VCALENDAR
VERSION:2.0
PRODID:-//Kitlabs - ECPv6.15.11//NONSGML v1.0//EN
CALSCALE:GREGORIAN
METHOD:PUBLISH
X-ORIGINAL-URL:https://kitlabs.krescentglobal.com
X-WR-CALDESC:Events for Kitlabs
REFRESH-INTERVAL;VALUE=DURATION:PT1H
X-Robots-Tag:noindex
X-PUBLISHED-TTL:PT1H
BEGIN:VTIMEZONE
TZID:UTC
BEGIN:STANDARD
TZOFFSETFROM:+0000
TZOFFSETTO:+0000
TZNAME:UTC
DTSTART:20230101T000000
END:STANDARD
END:VTIMEZONE
BEGIN:VEVENT
DTSTART;TZID=UTC:20250515T110000
DTEND;TZID=UTC:20250515T114500
DTSTAMP:20260423T165845
CREATED:20250725T124850Z
LAST-MODIFIED:20250728T073903Z
UID:15277-1747306800-1747309500@kitlabs.krescentglobal.com
SUMMARY:Webinar - Construction Mobile App Development
DESCRIPTION:  \nDiscover how custom apps are revolutionizing construction. Boost productivity\, safety & efficiency. Free event – register now!\n🚧 Smart Construction: Transforming the Industry with Next-Gen App Development\nExplore how custom construction apps are revolutionizing site operations. From real-time communication to AI-driven project tracking\, discover how the right technology boosts productivity\, safety\, and efficiency. \nAgenda\n✅ 11:00 to 11:05 – Introduction/Welcome\n✅ 11:05 to 11:20 – Construction Company Business\n✅ 11:20 to 11:35 – Mobile Apps for Construction\n✅ 11:35 to 11:40 – Mobile App Cost Estimator \nWhat You’ll Learn:\n✅ Must-have features in construction apps\n✅ How AI improves field operations\n✅ Real-world success stories\n✅ How to get started affordably \nWebinar Recording | Construction Mobile App Development
URL:https://kitlabs.krescentglobal.com/event/webinar-construction-mobile-app-development/
LOCATION:Zoom
ATTACH;FMTTYPE=image/webp:https://kitlabs.krescentglobal.com/wp-content/uploads/2025/07/Construction-Webinar.webp
ORGANIZER;CN="KITLabs Inc.":MAILTO:support@kitlabs.us
END:VEVENT
BEGIN:VEVENT
DTSTART;TZID=UTC:20250422T110000
DTEND;TZID=UTC:20250422T110000
DTSTAMP:20260423T165845
CREATED:20250725T131026Z
LAST-MODIFIED:20250728T094827Z
UID:15285-1745319600-1745319600@kitlabs.krescentglobal.com
SUMMARY:Webinar - Utility Management Mobile App
DESCRIPTION:  \nJoin US for Webinar – Grow Your Utility Business with a Mobile App\nAbout the Event\nUtility management is changing—and mobile apps are leading the way. Join KITLabs Inc for an exclusive session to explore how a custom mobile solution can help you simplify operations\, reduce costs\, and deliver better service. Whether you manage electricity\, water\, or gas\, this event will show you how to harness the power of technology to stay ahead. \nAgenda\n✅ Introduction to Utility Tech Trends\n✅ Key Benefits of Custom Mobile Apps\n✅ Live Demo: Features Built for Utility Providers\n✅ Real-World Use Cases\n✅ Live Q&A with Our Development Experts \nWhy Attend?\n\n📲 Streamline utility management with a custom mobile app\n⚡ Leverage AI & IoT for smarter\, real-time operations\n📊 Improve customer experience\, billing\, and reporting\n🌱 Adopt sustainable and scalable digital solutions\n\nWho Should Join?\n\nUtility service providers (electricity\, water\, gas)\nFacility & operations managers\nTech leaders and decision-makers\n\n\nOur Utility Webinar Video
URL:https://kitlabs.krescentglobal.com/event/webinar-utility-management-mobile-app/
LOCATION:Zoom Meeting
ATTACH;FMTTYPE=image/png:https://kitlabs.krescentglobal.com/wp-content/uploads/2025/07/Utilities-Eventbrite-Webinar.png
ORGANIZER;CN="KITLabs Inc.":MAILTO:support@kitlabs.us
END:VEVENT
BEGIN:VEVENT
DTSTART;TZID=UTC:20241218T110000
DTEND;TZID=UTC:20241218T113000
DTSTAMP:20260423T165845
CREATED:20250725T132035Z
LAST-MODIFIED:20250728T095105Z
UID:15289-1734519600-1734521400@kitlabs.krescentglobal.com
SUMMARY:Grow Your Food Business with a Mobile App
DESCRIPTION:Join Us Live: Grow Your Food Business with a Mobile App – Webinar\nIn today’s fast-paced digital world\, food businesses can achieve new levels of efficiency and customer satisfaction with the power of mobile apps. Join us for an insightful webinar where we’ll discuss how mobile technology can revolutionize your food and delivery business. Whether you’re managing orders\, optimizing deliveries\, or enhancing customer experience\, we’ll guide you through tailored solutions that fit your business needs. \nAgenda: \n\nComplete App Development Process \niOS and Android Platforms\nCost Breakdown of App Development\nCollaboration Opportunities \n\nDon’t miss out any opportunity to transform your business! Plus\, all attendees will receive an exclusive giveaway.
URL:https://kitlabs.krescentglobal.com/event/grow-your-food-business-with-a-mobile-app/
LOCATION:Zoom Meeting
ATTACH;FMTTYPE=image/png:https://kitlabs.krescentglobal.com/wp-content/uploads/2025/07/event-banner-food.png
ORGANIZER;CN="KITLabs Inc.":MAILTO:support@kitlabs.us
END:VEVENT
BEGIN:VEVENT
DTSTART;TZID=UTC:20241211T110000
DTEND;TZID=UTC:20241211T114500
DTSTAMP:20260423T165845
CREATED:20250728T051522Z
LAST-MODIFIED:20250728T095139Z
UID:15299-1733914800-1733917500@kitlabs.krescentglobal.com
SUMMARY:Grow Your Agriculture Business with a Mobile App!
DESCRIPTION:Join Us Live: Grow Your Agriculture Business with a Mobile App – Webinar\nIn today’s fast-paced digital world\, agriculture businesses can unlock new levels of efficiency and growth with the power of mobile apps. Join us for an insightful webinar where we’ll explore how mobile technology can revolutionize your agriculture business. Whether you’re looking to manage operations more effectively\, connect with customers\, or enhance your farm management\, we’ll guide you through how a mobile app can provide solutions tailored to your unique needs. \nAgenda: \n\nComplete App Development Process \niOS and Android Platforms\nCost Breakdown of App Development\nCollaboration Opportunities \n\nDon’t miss out any opportunity to transform your business! Plus\, all attendees will receive an exclusive giveaway.
URL:https://kitlabs.krescentglobal.com/event/grow-your-agriculture-business-with-a-mobile-app/
LOCATION:Zoom Meeting
ATTACH;FMTTYPE=image/png:https://kitlabs.krescentglobal.com/wp-content/uploads/2025/07/geneticists-biologists-scientists-are-studying-genetic-structure-vegetables-greenhouse-1-1.png
ORGANIZER;CN="KITLabs Inc.":MAILTO:support@kitlabs.us
END:VEVENT
BEGIN:VEVENT
DTSTART;TZID=UTC:20241023T110000
DTEND;TZID=UTC:20241023T120000
DTSTAMP:20260423T165846
CREATED:20250728T075834Z
LAST-MODIFIED:20250728T093409Z
UID:15334-1729681200-1729684800@kitlabs.krescentglobal.com
SUMMARY:Get Your Business a Mobile App!
DESCRIPTION:Join Us: Get Your Business a Mobile App – Transform Your Digital Presence!\nIn today’s digital world\, a mobile app is essential for staying competitive. Join us for an engaging live webinar where we’ll guide you through the complete app development process\, empowering you to elevate your business and enhance customer engagement. Don’t miss this opportunity to take your business to the next level! \n  \nAgenda:\n\nComplete App Development Process \niOS and Android Platforms\nCost Breakdown of App Development\nCollaboration Opportunities \n\nDon’t miss out any opportunity to transform your business! Plus\, all attendees will receive an exclusive giveaway. \n  \nWatch Webinar Recording
URL:https://kitlabs.krescentglobal.com/event/get-your-business-a-mobile-app/
LOCATION:Zoom Meeting
ATTACH;FMTTYPE=image/jpeg:https://kitlabs.krescentglobal.com/wp-content/uploads/2025/07/asian-businesswoman-working-remotely-from-home-virtual-video-conference-meeting-webinar-with-colleagues-business-people-social-distancing-home-office-concept-scaled-1.jpg
ORGANIZER;CN="KITLabs Inc.":MAILTO:support@kitlabs.us
END:VEVENT
BEGIN:VEVENT
DTSTART;TZID=UTC:20240710T100000
DTEND;TZID=UTC:20240710T120000
DTSTAMP:20260423T165846
CREATED:20250728T085927Z
LAST-MODIFIED:20250728T095222Z
UID:15339-1720605600-1720612800@kitlabs.krescentglobal.com
SUMMARY:Fitness
DESCRIPTION:Join Our Upcoming Fitness Webinar to Learn How You Can Digitally Streamline Your Business\nIn this upcoming webinar\, we will discuss the pressing challenges the fitness industry is currently facing and present real-world solutions to address them. We will showcase a live working system that effectively resolves these issues. Additionally\, we will provide live demonstrations of the application\, illustrating its benefits for gym members\, fitness trainers\, and administrators. Discover how this innovative solution can enhance daily operations and streamline management tasks for your fitness business. \n\nDiscussed Challenges the Industry is Facing\nReal World Solutions to Resolve\nLive Working System Resolving These Issues\nLive Demo of the Application for Gym Members\nLive Demo of the Application for Fitness Trainers\nLive Demo of the Application for Administrators and Owners\n\nDon’t miss out on this opportunity to transform your fitness business! Plus\, all attendees will receive an exclusive giveaway.
URL:https://kitlabs.krescentglobal.com/event/fitness/
LOCATION:Zoom Meeting
ATTACH;FMTTYPE=image/webp:https://kitlabs.krescentglobal.com/wp-content/uploads/2025/07/fitness-1-new.webp
ORGANIZER;CN="KITLabs Inc.":MAILTO:support@kitlabs.us
END:VEVENT
BEGIN:VEVENT
DTSTART;TZID=UTC:20240522T100000
DTEND;TZID=UTC:20240522T230000
DTSTAMP:20260423T165846
CREATED:20250728T091315Z
LAST-MODIFIED:20250728T092538Z
UID:15344-1716372000-1716418800@kitlabs.krescentglobal.com
SUMMARY:Daycare
DESCRIPTION:Watch Daycare Webinar Recording and Learn How You Can Digitally Streamline Your Business\nIn this webinar\, we covered the pressing challenges the daycare industry is currently facing and presented real-world solutions to address them. We showcased a live working system that effectively resolves these issues. Additionally\, we provided live demonstrations of the application\, illustrating its benefits for teachers\, parents\, daycare owners\, and administrators. See how this innovative solution can enhance daily operations and streamline management tasks for your daycare business. \n\nDiscussed Challenges the Industry is Facing\nReal World Solutions to Resolve\nLive Working System Resolving These Issues\nLive Demo of the Application for Teachers and Parents\nLive Demo for Daycare Owners and Admins
URL:https://kitlabs.krescentglobal.com/event/daycare/
LOCATION:Zoom
ATTACH;FMTTYPE=image/webp:https://kitlabs.krescentglobal.com/wp-content/uploads/2025/04/daycare-1-1.webp
ORGANIZER;CN="KITLabs Inc.":MAILTO:support@kitlabs.us
END:VEVENT
END:VCALENDAR